BEGIN:VCALENDAR
VERSION:2.0
PRODID:-//PTFOR - ECPv6.5.1.5//NONSGML v1.0//EN
CALSCALE:GREGORIAN
METHOD:PUBLISH
X-ORIGINAL-URL:https://www.ptfor.es
X-WR-CALDESC:Eventos para PTFOR
REFRESH-INTERVAL;VALUE=DURATION:PT1H
X-Robots-Tag:noindex
X-PUBLISHED-TTL:PT1H
BEGIN:VTIMEZONE
TZID:UTC
BEGIN:STANDARD
TZOFFSETFROM:+0000
TZOFFSETTO:+0000
TZNAME:UTC
DTSTART:20250101T000000
END:STANDARD
END:VTIMEZONE
BEGIN:VEVENT
DTSTART;VALUE=DATE:20250109
DTEND;VALUE=DATE:20250201
DTSTAMP:20260424T161711
CREATED:20241217T094728Z
LAST-MODIFIED:20241217T094809Z
UID:5800-1736380800-1738367999@www.ptfor.es
SUMMARY:Proyectos de Generación de Conocimiento 2024
DESCRIPTION:Enviado por: Ministerio de Ciencia\, Innovación y Universidades\nObjeto: Promover proyectos de investigación dirigidos tanto a fomentar el avance significativo del conocimiento científico como a avanzar hacia la búsqueda de soluciones a los desafíos de la sociedad. \nPlazos de la convocatoria: \n\nApertura: 9 de enero de 2025\nCierre: 31 de enero de 2025\n\nPresupuesto: La cuantía total máxima de las ayudas convocadas en esta resolución asciende a 675 millones de euros.\nBeneficiarios: Los centros tecnológicos figuran entre los posibles beneficiarios. \nJornada informativa: El 19 de diciembre de 2024\, a las 10:30 horas\, se celebrará un webinario para presentar la convocatoria. \nEnlaces de interés: \n\nExtracto publicado en el BOE: https://www.boe.es/boe/dias/2024/12/12/pdfs/BOE-B-2024-45527.pdf\nAcceso a la BDNS (incluye documento de la convocatoria): https://www.pap.hacienda.gob.es/bdnstrans/GE/es/convocatorias/801943\nEnlace al webinario: https://www.aei.gob.es/noticias/webinario-agencia-estatal-investigacion-convocatoria-ano-2024-ayudas-proyectos-generacion\n\n 
URL:https://www.ptfor.es/event/proyectos-de-generacion-de-conocimiento-2024/
ATTACH;FMTTYPE=image/jpeg:https://www.ptfor.es/wp-content/uploads/sites/2/2024/12/proyectos-generacion-aei2024.jpg
END:VEVENT
BEGIN:VEVENT
DTSTART;VALUE=DATE:20250115
DTEND;VALUE=DATE:20250206
DTSTAMP:20260424T161711
CREATED:20241217T094056Z
LAST-MODIFIED:20241217T094056Z
UID:5797-1736899200-1738799999@www.ptfor.es
SUMMARY:Proyectos en colaboración público-privada 2024
DESCRIPTION:Enviado por: Ministerio de Ciencia\, Innovación y Universidades\nObjeto: Financiar proyectos de desarrollo experimental en colaboración entre empresas y organismos de investigación\, a fin de avanzar en la incorporación de conocimientos y resultados científico-técnicos que permitan la validación y el desarrollo precompetitivo de nuevas tecnologías\, productos y servicios. \nPlazos de la convocatoria: \n\nApertura: 15 de enero de 2025.\nCierre: 5 de febrero de 2025.\n\nPresupuesto: La cuantía total máxima de las ayudas convocadas en esta orden asciende a 320 millones de euros.\nBeneficiarios: Los centros tecnológicos figuran entre los posibles beneficiarios. \nEnlaces de interés: \n\nExtracto publicado en el BOE: https://www.boe.es/boe/dias/2024/12/12/pdfs/BOE-B-2024-45528.pdf\nAcceso a la publicación de la convocatoria en la BDNS: https://www.infosubvenciones.es/bdnstrans/GE/es/convocatorias/801602
URL:https://www.ptfor.es/event/proyectos-en-colaboracion-publico-privada-2024/
ATTACH;FMTTYPE=image/jpeg:https://www.ptfor.es/wp-content/uploads/sites/2/2024/12/proyectos-aei2024.jpg
END:VEVENT
END:VCALENDAR