BEGIN:VCALENDAR
VERSION:2.0
PRODID:-//PTFOR - ECPv6.5.1.5//NONSGML v1.0//EN
CALSCALE:GREGORIAN
METHOD:PUBLISH
X-WR-CALNAME:PTFOR
X-ORIGINAL-URL:https://www.ptfor.es
X-WR-CALDESC:Eventos para PTFOR
REFRESH-INTERVAL;VALUE=DURATION:PT1H
X-Robots-Tag:noindex
X-PUBLISHED-TTL:PT1H
BEGIN:VTIMEZONE
TZID:UTC
BEGIN:STANDARD
TZOFFSETFROM:+0000
TZOFFSETTO:+0000
TZNAME:UTC
DTSTART:20240101T000000
END:STANDARD
END:VTIMEZONE
BEGIN:VEVENT
DTSTART;VALUE=DATE:20241218
DTEND;VALUE=DATE:20250129
DTSTAMP:20260425T002619
CREATED:20241217T095132Z
LAST-MODIFIED:20241217T095132Z
UID:5803-1734480000-1738108799@www.ptfor.es
SUMMARY:Convocatoria 2024 de las ayudas Torres Quevedo
DESCRIPTION:Enviado por: Ministerio de Ciencia\, Innovación y Universidades\nObjeto:  Promover la realización de proyectos de investigación industrial\, de desarrollo experimental o estudios de viabilidad previos\, para los que sea necesaria la contratación laboral de personas con el grado de doctor. \nPlazos de la convocatoria: \n\nApertura: 18 de diciembre de 2024.\nCierre: 28 de enero de 2025.\n\nPresupuesto: La cuantía total máxima de las ayudas asciende a 20\,1 millones de euros.\nBeneficiarios: Los centros tecnológicos figuran entre los posibles beneficiarios. \nEnlaces de interés: \n\nExtracto publicado en el BOE: https://www.boe.es/boe/dias/2024/12/06/pdfs/BOE-B-2024-44728.pdf\nAcceso a la publicación de la convocatoria en la BDNS: https://www.pap.hacienda.gob.es/bdnstrans/GE/es/convocatorias/797068\nFicha de la convocatoria: https://www.aei.gob.es/convocatorias/buscador-convocatorias/ayudas-contratos-torres-quevedo-ptq-2024
URL:https://www.ptfor.es/event/convocatoria-2024-de-las-ayudas-torres-quevedo/
ATTACH;FMTTYPE=image/jpeg:https://www.ptfor.es/wp-content/uploads/sites/2/2024/12/quevedo-2024.jpg
END:VEVENT
END:VCALENDAR