BEGIN:VCALENDAR
VERSION:2.0
PRODID:-//PTFOR - ECPv6.5.1.5//NONSGML v1.0//EN
CALSCALE:GREGORIAN
METHOD:PUBLISH
X-WR-CALNAME:PTFOR
X-ORIGINAL-URL:https://www.ptfor.es
X-WR-CALDESC:Eventos para PTFOR
REFRESH-INTERVAL;VALUE=DURATION:PT1H
X-Robots-Tag:noindex
X-PUBLISHED-TTL:PT1H
BEGIN:VTIMEZONE
TZID:UTC
BEGIN:STANDARD
TZOFFSETFROM:+0000
TZOFFSETTO:+0000
TZNAME:UTC
DTSTART:20240101T000000
END:STANDARD
END:VTIMEZONE
BEGIN:VEVENT
DTSTART;TZID=UTC:20241023T090000
DTEND;TZID=UTC:20241024T180000
DTSTAMP:20260425T224534
CREATED:20241014T062646Z
LAST-MODIFIED:20241014T062646Z
UID:5585-1729674000-1729792800@www.ptfor.es
SUMMARY:PEFC te invita al Foro Internacional: Bosques frente al Cambio Climático
DESCRIPTION:PEFC\, como socio del proyecto Life Soria Forest Adapt\, te invita al Foro Internacional “Bosques: Refugio y Escudo frente al Cambio Climático” que se organiza en el marco del proyecto como colofón final. Este 23 y 24 de octubre\, te esperamos en Soria\, en un encuentro clave para gestores forestales\, científicos y administraciones\, donde se dialogará sobre los avances en selvicultura adaptativa\, la certificación forestal y la participación del sector empresarial en la conservación de nuestros bosques. \nMarta Salvador\, directora técnica de PEFC España\, hablará sobre “Adaptación de las certificaciones forestales al cambio climático” el día 24\, en la sesión de las 12:35h. \nPuedes leer la noticia completa aquí. \n  \nMás información e inscripción. \n¡Te esperamos!
URL:https://www.ptfor.es/event/pefc-te-invita-al-foro-internacional-bosques-frente-al-cambio-climatico/
LOCATION:Sede territotrial de la Junta de Castilla y León en Soria\, C/ Linajes\, 1. C.P.: Soria.\, Soria\, Soria\, 42003\, España
ATTACH;FMTTYPE=image/webp:https://www.ptfor.es/wp-content/uploads/sites/2/2024/10/d8659d70-f3c6-53fb-8d8e-c13345c2d151.webp
END:VEVENT
END:VCALENDAR