BEGIN:VCALENDAR
VERSION:2.0
PRODID:-//PTFOR - ECPv6.5.1.5//NONSGML v1.0//EN
CALSCALE:GREGORIAN
METHOD:PUBLISH
X-WR-CALNAME:PTFOR
X-ORIGINAL-URL:https://www.ptfor.es
X-WR-CALDESC:Eventos para PTFOR
REFRESH-INTERVAL;VALUE=DURATION:PT1H
X-Robots-Tag:noindex
X-PUBLISHED-TTL:PT1H
BEGIN:VTIMEZONE
TZID:UTC
BEGIN:STANDARD
TZOFFSETFROM:+0000
TZOFFSETTO:+0000
TZNAME:UTC
DTSTART:20240101T000000
END:STANDARD
END:VTIMEZONE
BEGIN:VEVENT
DTSTART;TZID=UTC:20241024T083000
DTEND;TZID=UTC:20241024T150000
DTSTAMP:20260425T202306
CREATED:20241029T090204Z
LAST-MODIFIED:20241029T090225Z
UID:5669-1729758600-1729782000@www.ptfor.es
SUMMARY:CONGRESO HÁBITAT 2024
DESCRIPTION:INTELIGENCIA ARTIFICIAL. Casos y aplicaciones en empresas del hábitat \nFecha: 24 de octubre.\nLugar: Feria Valencia. Salón de Actos\, Foro Norte \nCONGRESO HÁBITAT apuesta por ofrecer una visión integral de la Inteligencia Artificial en la industria del hábitat mediante la participación expertos y casos de empresa\, identificando oportunidades de mercado y de aplicación de la Inteligencia Artificial en los distintos procesos industriales (producción\, diseño de producto\, marketing\, exportación…). \nDurante la jornada se desarrollarán ponencias entorno a: \n\nEntorno económico actual y el impacto económico y social de la IA.\nEstrategias de implementación de la Inteligencia Artificial en las empresas del hábitat: usos\, recorrido y beneficios para la industria y el sector.\nImplicaciones y potencial de la IA en las empresas: el aporte de valor y el impacto transformador en los procesos productivos\, el marketing\, el diseño\, etc.\nHerramientas de aplicación\, experiencias y beneficios de IA en procesos productivos\, eficiencia energética\, interiorismo\, gestión de clientes…\n\nCONCEPTOS CLAVE: impacto de la IA en la industria + integración IA en los procesos industriales + aporte de valor de la IA + usos actuales y potenciales de la IA. \n\n\n 
URL:https://www.ptfor.es/event/congreso-habitat-2024/
LOCATION:Feria Valencia\, Avinguda de les Fires\, s/n\, Valencia\, Valencia\, 46035\, España
ATTACH;FMTTYPE=image/jpeg:https://www.ptfor.es/wp-content/uploads/sites/2/2024/10/INSTAGRAM-imagen-cuadrada.jpg
ORGANIZER;CN="AIDIMME":MAILTO:aidimme@aidimme.es
END:VEVENT
END:VCALENDAR