BEGIN:VCALENDAR
VERSION:2.0
PRODID:-//PTFOR - ECPv6.5.1.5//NONSGML v1.0//EN
CALSCALE:GREGORIAN
METHOD:PUBLISH
X-ORIGINAL-URL:https://www.ptfor.es
X-WR-CALDESC:Eventos para PTFOR
REFRESH-INTERVAL;VALUE=DURATION:PT1H
X-Robots-Tag:noindex
X-PUBLISHED-TTL:PT1H
BEGIN:VTIMEZONE
TZID:UTC
BEGIN:STANDARD
TZOFFSETFROM:+0000
TZOFFSETTO:+0000
TZNAME:UTC
DTSTART:20240101T000000
END:STANDARD
END:VTIMEZONE
BEGIN:VEVENT
DTSTART;VALUE=DATE:20241014
DTEND;VALUE=DATE:20241015
DTSTAMP:20260426T014725
CREATED:20241029T084144Z
LAST-MODIFIED:20241029T084144Z
UID:5642-1728864000-1728950399@www.ptfor.es
SUMMARY:Reunión del Comité organizador de FORO TRANSFIERE 2025
DESCRIPTION:
URL:https://www.ptfor.es/event/reunion-del-comite-organizador-de-foro-transfiere-2025/
ATTACH;FMTTYPE=image/webp:https://www.ptfor.es/wp-content/uploads/sites/2/2024/10/Logo-Transfiere-2025.webp
END:VEVENT
END:VCALENDAR