BEGIN:VCALENDAR
VERSION:2.0
PRODID:-//PTFOR - ECPv6.5.1.5//NONSGML v1.0//EN
CALSCALE:GREGORIAN
METHOD:PUBLISH
X-WR-CALNAME:PTFOR
X-ORIGINAL-URL:https://www.ptfor.es
X-WR-CALDESC:Eventos para PTFOR
REFRESH-INTERVAL;VALUE=DURATION:PT1H
X-Robots-Tag:noindex
X-PUBLISHED-TTL:PT1H
BEGIN:VTIMEZONE
TZID:UTC
BEGIN:STANDARD
TZOFFSETFROM:+0000
TZOFFSETTO:+0000
TZNAME:UTC
DTSTART:20240101T000000
END:STANDARD
END:VTIMEZONE
BEGIN:VEVENT
DTSTART;VALUE=DATE:20241024
DTEND;VALUE=DATE:20241026
DTSTAMP:20260425T205809
CREATED:20241021T062501Z
LAST-MODIFIED:20241021T063206Z
UID:5596-1729728000-1729900799@www.ptfor.es
SUMMARY:Urban Tree Diversity Conference
DESCRIPTION:The Urban Tree Diversity Conference (UTD5)\, to be held in October 2024 in Madrid\, Spain\, aims to help craft a vision for the future of urban forests by sharing innovations from a spectrum of scientific disciplines that seek to secure the health and resilience of our urban trees. \nAs our cities face the pressing challenges of climate change\, extreme weather events\, increasing population growth and densification\, the role of urban forestry becomes increasingly vital. This conference serves as a platform to share knowledge\, exchange ideas\, and shape the future of our urban forests and trees for the benefit of our cities\, our communities\, and the environment. \n 
URL:https://www.ptfor.es/event/urban-tree-diversity-conference/
LOCATION:Madrid\, España
ATTACH;FMTTYPE=image/png:https://www.ptfor.es/wp-content/uploads/sites/2/2024/10/Bajo-la-cabecera.png
END:VEVENT
END:VCALENDAR